BEGIN:VCALENDAR
VERSION:2.0
PRODID:-//Crossroads Treatment Centers - ECPv6.15.20//NONSGML v1.0//EN
CALSCALE:GREGORIAN
METHOD:PUBLISH
X-WR-CALNAME:Crossroads Treatment Centers
X-ORIGINAL-URL:https://www.crossroadstreatmentcenters.com
X-WR-CALDESC:Events for Crossroads Treatment Centers
REFRESH-INTERVAL;VALUE=DURATION:PT1H
X-Robots-Tag:noindex
X-PUBLISHED-TTL:PT1H
BEGIN:VTIMEZONE
TZID:America/New_York
BEGIN:DAYLIGHT
TZOFFSETFROM:-0500
TZOFFSETTO:-0400
TZNAME:EDT
DTSTART:20240310T070000
END:DAYLIGHT
BEGIN:STANDARD
TZOFFSETFROM:-0400
TZOFFSETTO:-0500
TZNAME:EST
DTSTART:20241103T060000
END:STANDARD
BEGIN:DAYLIGHT
TZOFFSETFROM:-0500
TZOFFSETTO:-0400
TZNAME:EDT
DTSTART:20250309T070000
END:DAYLIGHT
BEGIN:STANDARD
TZOFFSETFROM:-0400
TZOFFSETTO:-0500
TZNAME:EST
DTSTART:20251102T060000
END:STANDARD
BEGIN:DAYLIGHT
TZOFFSETFROM:-0500
TZOFFSETTO:-0400
TZNAME:EDT
DTSTART:20260308T070000
END:DAYLIGHT
BEGIN:STANDARD
TZOFFSETFROM:-0400
TZOFFSETTO:-0500
TZNAME:EST
DTSTART:20261101T060000
END:STANDARD
END:VTIMEZONE
BEGIN:VEVENT
DTSTART;VALUE=DATE:20250226
DTEND;VALUE=DATE:20250227
DTSTAMP:20260421T054151
CREATED:20250115T233223Z
LAST-MODIFIED:20250115T233223Z
UID:3260-1740528000-1740614399@www.crossroadstreatmentcenters.com
SUMMARY:61st Annual SCCA Conference
DESCRIPTION:Stop by our booth at South Carolina’s Counseling Association annual conference. This event will feature topics surrounding counseling for substance use and addiction\, behavioral health services for marginalized communities and cultural impact on mental health.
URL:https://www.crossroadstreatmentcenters.com/event/61st-annual-scca-conference/
LOCATION:Hilton Myrtle Beach\, Myrtle Beach\, SC\, United States
END:VEVENT
END:VCALENDAR